<?xml version="1.0" encoding="UTF-8" standalone="no"?>
<metadata xml:lang="en">
<Esri>
<CreaDate>20130506</CreaDate>
<CreaTime>15014300</CreaTime>
<ArcGISFormat>1.0</ArcGISFormat>
<SyncOnce>FALSE</SyncOnce>
<DataProperties>
<lineage>
<Process Date="20130506" Time="150143" ToolSource="c:\program files (x86)\arcgis\desktop10.1\ArcToolbox\Toolboxes\Data Management Tools.tbx\CreateMosaicDataset">CreateMosaicDataset X:\2008\mosaic2008.gdb city2008 "PROJCS['NAD_1983_HARN_UTM_Zone_12N',GEOGCS['GCS_North_American_1983_HARN',DATUM['D_North_American_1983_HARN',SPHEROID['GRS_1980',6378137.0,298.257222101]],PRIMEM['Greenwich',0.0],UNIT['Degree',0.0174532925199433]],PROJECTION['Transverse_Mercator'],PARAMETER['False_Easting',500000.0],PARAMETER['False_Northing',0.0],PARAMETER['Central_Meridian',-111.0],PARAMETER['Scale_Factor',0.9996],PARAMETER['Latitude_Of_Origin',0.0],UNIT['Meter',1.0]];-5120900 -9998100 10000;-100000 10000;-100000 10000;0.001;0.001;0.001;IsHighPrecision" 3 # NATURAL_COLOR_RGB "Red 630 690;Green 530 570;Blue 440 480"</Process>
<Process Date="20130506" Time="161040" ToolSource="c:\program files (x86)\arcgis\desktop10.1\ArcToolbox\Toolboxes\Data Management Tools.tbx\AddRastersToMosaicDataset">AddRastersToMosaicDataset X:\2008\mosaic2008.gdb\city2008 "Raster Dataset" X:\2008\2697-13-1.tif;X:\2008\2697-13-2.tif;X:\2008\2697-13-3.tif;X:\2008\2697-13-4.tif;X:\2008\2697-14-1.tif;X:\2008\2697-14-4.tif;X:\2008\2697-23-1.tif;X:\2008\2697-23-4.tif;X:\2008\2697-24-1.tif;X:\2008\2697-24-2.tif;X:\2008\2697-24-3.tif;X:\2008\2697-24-4.tif;X:\2008\2697-25-1.tif;X:\2008\2697-25-2.tif;X:\2008\2697-25-3.tif;X:\2008\2697-25-4.tif;X:\2008\2697-26-1.tif;X:\2008\2697-26-3.tif;X:\2008\2697-26-4.tif;X:\2008\2697-27-3.tif;X:\2008\2697-27-4.tif;X:\2008\2697-33-1.tif;X:\2008\2697-33-3.tif;X:\2008\2697-33-4.tif;X:\2008\2697-34-1.tif;X:\2008\2697-34-2.tif;X:\2008\2697-34-3.tif;X:\2008\2697-34-4.tif;X:\2008\2697-35-1.tif;X:\2008\2697-35-2.tif;X:\2008\2697-35-3.tif;X:\2008\2697-35-4.tif;X:\2008\2697-36-1.tif;X:\2008\2697-36-2.tif;X:\2008\2697-36-3.tif;X:\2008\2697-36-4.tif;X:\2008\2701-14-1.tif;X:\2008\2701-14-2.tif;X:\2008\2701-14-3.tif;X:\2008\2701-14-4.tif;X:\2008\2701-15-1.tif;X:\2008\2701-15-2.tif;X:\2008\2701-15-3.tif;X:\2008\2701-15-4.tif;X:\2008\2701-16-1.tif;X:\2008\2701-16-2.tif;X:\2008\2701-16-3.tif;X:\2008\2701-16-4.tif;X:\2008\2701-17-1.tif;X:\2008\2701-17-2.tif;X:\2008\2701-17-3.tif;X:\2008\2701-17-4.tif;X:\2008\2701-18-1.tif;X:\2008\2701-18-2.tif;X:\2008\2701-18-3.tif;X:\2008\2701-18-4.tif;X:\2008\2701-19-1.tif;X:\2008\2701-19-2.tif;X:\2008\2701-19-3.tif;X:\2008\2701-19-4.tif;X:\2008\2701-20-1.tif;X:\2008\2701-20-2.tif;X:\2008\2701-20-3.tif;X:\2008\2701-20-4.tif;X:\2008\2701-21-1.tif;X:\2008\2701-21-2.tif;X:\2008\2701-21-3.tif;X:\2008\2701-21-4.tif;X:\2008\2701-22-1.tif;X:\2008\2701-22-2.tif;X:\2008\2701-22-3.tif;X:\2008\2701-22-4.tif;X:\2008\2701-23-1.tif;X:\2008\2701-23-2.tif;X:\2008\2701-23-3.tif;X:\2008\2701-23-4.tif;X:\2008\2701-24-1.tif;X:\2008\2701-24-2.tif;X:\2008\2701-24-3.tif;X:\2008\2701-24-4.tif;X:\2008\2701-25-1.tif;X:\2008\2701-25-2.tif;X:\2008\2701-25-3.tif;X:\2008\2701-25-4.tif;X:\2008\2701-26-1.tif;X:\2008\2701-26-2.tif;X:\2008\2701-26-3.tif;X:\2008\2701-26-4.tif;X:\2008\2701-27-1.tif;X:\2008\2701-27-2.tif;X:\2008\2701-27-3.tif;X:\2008\2701-27-4.tif;X:\2008\2701-28-1.tif;X:\2008\2701-28-2.tif;X:\2008\2701-28-3.tif;X:\2008\2701-28-4.tif;X:\2008\2701-29-1.tif;X:\2008\2701-29-2.tif;X:\2008\2701-29-3.tif;X:\2008\2701-29-4.tif;X:\2008\2701-30-1.tif;X:\2008\2701-30-2.tif;X:\2008\2701-30-3.tif;X:\2008\2701-30-4.tif;X:\2008\2701-31-1.tif;X:\2008\2701-31-2.tif;X:\2008\2701-31-3.tif;X:\2008\2701-31-4.tif;X:\2008\2701-32-1.tif;X:\2008\2701-32-2.tif;X:\2008\2701-32-3.tif;X:\2008\2701-32-4.tif;X:\2008\2701-33-1.tif;X:\2008\2701-33-2.tif;X:\2008\2701-33-3.tif;X:\2008\2701-33-4.tif;X:\2008\2701-34-1.tif;X:\2008\2701-34-2.tif;X:\2008\2701-34-3.tif;X:\2008\2701-34-4.tif;X:\2008\2701-35-1.tif;X:\2008\2701-35-2.tif;X:\2008\2701-35-3.tif;X:\2008\2701-35-4.tif;X:\2008\2701-36-1.tif;X:\2008\2701-36-2.tif;X:\2008\2701-36-3.tif;X:\2008\2701-36-4.tif;X:\2008\2705-25-3.tif;X:\2008\2705-25-4.tif;X:\2008\2705-26-3.tif;X:\2008\2705-26-4.tif;X:\2008\2705-27-3.tif;X:\2008\2705-27-4.tif;X:\2008\2705-28-2.tif;X:\2008\2705-28-3.tif;X:\2008\2705-28-4.tif;X:\2008\2705-29-1.tif;X:\2008\2705-29-2.tif;X:\2008\2705-29-3.tif;X:\2008\2705-29-4.tif;X:\2008\2705-30-1.tif;X:\2008\2705-30-2.tif;X:\2008\2705-30-3.tif;X:\2008\2705-30-4.tif;X:\2008\2705-31-1.tif;X:\2008\2705-31-2.tif;X:\2008\2705-31-3.tif;X:\2008\2705-31-4.tif;X:\2008\2705-32-1.tif;X:\2008\2705-32-2.tif;X:\2008\2705-32-3.tif;X:\2008\2705-32-4.tif;X:\2008\2705-33-1.tif;X:\2008\2705-33-2.tif;X:\2008\2705-33-3.tif;X:\2008\2705-33-4.tif;X:\2008\2705-34-1.tif;X:\2008\2705-34-2.tif;X:\2008\2705-34-3.tif;X:\2008\2705-34-4.tif;X:\2008\2705-35-1.tif;X:\2008\2705-35-2.tif;X:\2008\2705-35-3.tif;X:\2008\2705-35-4.tif;X:\2008\2705-36-1.tif;X:\2008\2705-36-2.tif;X:\2008\2705-36-3.tif;X:\2008\2705-36-4.tif;X:\2008\2943-01-1.tif;X:\2008\2943-01-2.tif;X:\2008\2943-01-3.tif;X:\2008\2943-01-4.tif;X:\2008\2943-02-1.tif;X:\2008\2943-02-2.tif;X:\2008\2943-02-3.tif;X:\2008\2943-02-4.tif;X:\2008\2943-03-1.tif;X:\2008\2943-03-2.tif;X:\2008\2943-03-3.tif;X:\2008\2943-03-4.tif;X:\2008\2943-04-1.tif;X:\2008\2943-04-2.tif;X:\2008\2943-04-3.tif;X:\2008\2943-04-4.tif;X:\2008\2943-05-1.tif;X:\2008\2943-05-2.tif;X:\2008\2943-05-3.tif;X:\2008\2943-05-4.tif;X:\2008\2943-06-1.tif;X:\2008\2943-06-2.tif;X:\2008\2943-06-3.tif;X:\2008\2943-06-4.tif;X:\2008\2943-07-1.tif;X:\2008\2943-07-2.tif;X:\2008\2943-07-3.tif;X:\2008\2943-07-4.tif;X:\2008\2943-08-1.tif;X:\2008\2943-08-2.tif;X:\2008\2943-08-3.tif;X:\2008\2943-08-4.tif;X:\2008\2943-09-1.tif;X:\2008\2943-09-2.tif;X:\2008\2943-09-3.tif;X:\2008\2943-09-4.tif;X:\2008\2943-10-1.tif;X:\2008\2943-10-2.tif;X:\2008\2943-10-3.tif;X:\2008\2943-10-4.tif;X:\2008\2943-11-1.tif;X:\2008\2943-11-2.tif;X:\2008\2943-11-3.tif;X:\2008\2943-11-4.tif;X:\2008\2943-12-1.tif;X:\2008\2943-12-2.tif;X:\2008\2943-12-3.tif;X:\2008\2943-12-4.tif;X:\2008\2943-13-1.tif;X:\2008\2943-13-2.tif;X:\2008\2943-13-3.tif;X:\2008\2943-13-4.tif;X:\2008\2943-14-1.tif;X:\2008\2943-14-2.tif;X:\2008\2943-14-3.tif;X:\2008\2943-14-4.tif;X:\2008\2943-15-1.tif;X:\2008\2943-15-2.tif;X:\2008\2943-15-3.tif;X:\2008\2943-15-4.tif;X:\2008\2943-16-1.tif;X:\2008\2943-16-2.tif;X:\2008\2943-16-3.tif;X:\2008\2943-16-4.tif;X:\2008\2943-17-1.tif;X:\2008\2943-17-2.tif;X:\2008\2943-17-3.tif;X:\2008\2943-17-4.tif;X:\2008\2943-18-1.tif;X:\2008\2943-18-2.tif;X:\2008\2943-18-3.tif;X:\2008\2943-18-4.tif;X:\2008\2943-19-1.tif;X:\2008\2943-19-2.tif;X:\2008\2943-19-3.tif;X:\2008\2943-19-4.tif;X:\2008\2943-20-1.tif;X:\2008\2943-20-2.tif;X:\2008\2943-20-3.tif;X:\2008\2943-20-4.tif;X:\2008\2943-21-1.tif;X:\2008\2943-21-2.tif;X:\2008\2943-21-3.tif;X:\2008\2943-21-4.tif;X:\2008\2943-22-1.tif;X:\2008\2943-22-2.tif;X:\2008\2943-22-3.tif;X:\2008\2943-22-4.tif;X:\2008\2943-23-1.tif;X:\2008\2943-23-2.tif;X:\2008\2943-23-3.tif;X:\2008\2943-23-4.tif;X:\2008\2943-24-1.tif;X:\2008\2943-24-2.tif;X:\2008\2943-24-3.tif;X:\2008\2943-24-4.tif;X:\2008\2943-25-1.tif;X:\2008\2943-25-2.tif;X:\2008\2943-25-3.tif;X:\2008\2943-25-4.tif;X:\2008\2943-26-1.tif;X:\2008\2943-26-2.tif;X:\2008\2943-26-3.tif;X:\2008\2943-26-4.tif;X:\2008\2943-27-1.tif;X:\2008\2943-27-2.tif;X:\2008\2943-27-3.tif;X:\2008\2943-27-4.tif;X:\2008\2943-28-1.tif;X:\2008\2943-28-2.tif;X:\2008\2943-28-3.tif;X:\2008\2943-28-4.tif;X:\2008\2943-29-1.tif;X:\2008\2943-29-2.tif;X:\2008\2943-29-3.tif;X:\2008\2943-29-4.tif;X:\2008\2943-30-1.tif;X:\2008\2943-30-2.tif;X:\2008\2943-30-3.tif;X:\2008\2943-30-4.tif;X:\2008\2943-31-1.tif;X:\2008\2943-31-2.tif;X:\2008\2943-31-3.tif;X:\2008\2943-31-4.tif;X:\2008\2943-32-1.tif;X:\2008\2943-32-2.tif;X:\2008\2943-32-3.tif;X:\2008\2943-32-4.tif;X:\2008\2943-33-1.tif;X:\2008\2943-33-2.tif;X:\2008\2943-33-3.tif;X:\2008\2943-33-4.tif;X:\2008\2943-34-1.tif;X:\2008\2943-34-2.tif;X:\2008\2943-34-3.tif;X:\2008\2943-34-4.tif;X:\2008\2943-35-1.tif;X:\2008\2943-35-2.tif;X:\2008\2943-35-3.tif;X:\2008\2943-35-4.tif;X:\2008\2945-01-1.tif;X:\2008\2945-01-2.tif;X:\2008\2945-01-3.tif;X:\2008\2945-01-4.tif;X:\2008\2945-02-1.tif;X:\2008\2945-02-2.tif;X:\2008\2945-02-3.tif;X:\2008\2945-02-4.tif;X:\2008\2945-03-1.tif;X:\2008\2945-03-2.tif;X:\2008\2945-03-3.tif;X:\2008\2945-03-4.tif;X:\2008\2945-04-1.tif;X:\2008\2945-04-2.tif;X:\2008\2945-04-3.tif;X:\2008\2945-04-4.tif;X:\2008\2945-05-1.tif;X:\2008\2945-05-2.tif;X:\2008\2945-05-3.tif;X:\2008\2945-05-4.tif;X:\2008\2945-06-1.tif;X:\2008\2945-06-2.tif;X:\2008\2945-06-3.tif;X:\2008\2945-06-4.tif;X:\2008\2945-07-1.tif;X:\2008\2945-07-2.tif;X:\2008\2945-07-3.tif;X:\2008\2945-07-4.tif;X:\2008\2945-08-1.tif;X:\2008\2945-08-2.tif;X:\2008\2945-08-3.tif;X:\2008\2945-08-4.tif;X:\2008\2945-09-1.tif;X:\2008\2945-09-2.tif;X:\2008\2945-09-3.tif;X:\2008\2945-09-4.tif;X:\2008\2945-10-1.tif;X:\2008\2945-10-2.tif;X:\2008\2945-10-3.tif;X:\2008\2945-10-4.tif;X:\2008\2945-11-1.tif;X:\2008\2945-11-2.tif;X:\2008\2945-11-3.tif;X:\2008\2945-11-4.tif;X:\2008\2945-12-1.tif;X:\2008\2945-12-2.tif;X:\2008\2945-12-3.tif;X:\2008\2945-12-4.tif;X:\2008\2945-13-1.tif;X:\2008\2945-13-2.tif;X:\2008\2945-13-3.tif;X:\2008\2945-13-4.tif;X:\2008\2945-14-1.tif;X:\2008\2945-14-2.tif;X:\2008\2945-14-3.tif;X:\2008\2945-14-4.tif;X:\2008\2945-15-1.tif;X:\2008\2945-15-2.tif;X:\2008\2945-15-3.tif;X:\2008\2945-15-4.tif;X:\2008\2945-16-1.tif;X:\2008\2945-16-2.tif;X:\2008\2945-16-3.tif;X:\2008\2945-16-4.tif;X:\2008\2945-17-1.tif;X:\2008\2945-17-2.tif;X:\2008\2945-17-3.tif;X:\2008\2945-17-4.tif;X:\2008\2945-18-1.tif;X:\2008\2945-18-2.tif;X:\2008\2945-18-3.tif;X:\2008\2945-18-4.tif;X:\2008\2945-19-1.tif;X:\2008\2945-19-2.tif;X:\2008\2945-19-3.tif;X:\2008\2945-19-4.tif;X:\2008\2945-20-1.tif;X:\2008\2945-20-2.tif;X:\2008\2945-20-3.tif;X:\2008\2945-20-4.tif;X:\2008\2945-21-1.tif;X:\2008\2945-21-2.tif;X:\2008\2945-21-3.tif;X:\2008\2945-21-4.tif;X:\2008\2945-22-1.tif;X:\2008\2945-22-2.tif;X:\2008\2945-22-3.tif;X:\2008\2945-22-4.tif;X:\2008\2945-23-1.tif;X:\2008\2945-23-2.tif;X:\2008\2945-23-3.tif;X:\2008\2945-23-4.tif;X:\2008\2945-24-1.tif;X:\2008\2945-24-2.tif;X:\2008\2945-24-3.tif;X:\2008\2945-24-4.tif;X:\2008\2945-25-1.tif;X:\2008\2945-25-2.tif;X:\2008\2945-25-3.tif;X:\2008\2945-25-4.tif;X:\2008\2945-26-1.tif;X:\2008\2945-26-2.tif;X:\2008\2945-26-3.tif;X:\2008\2945-26-4.tif;X:\2008\2945-27-1.tif;X:\2008\2945-27-2.tif;X:\2008\2945-27-3.tif;X:\2008\2945-27-4.tif;X:\2008\2945-28-1.tif;X:\2008\2945-28-2.tif;X:\2008\2945-28-3.tif;X:\2008\2945-28-4.tif;X:\2008\2945-29-1.tif;X:\2008\2945-29-2.tif;X:\2008\2945-29-3.tif;X:\2008\2945-29-4.tif;X:\2008\2945-30-1.tif;X:\2008\2945-30-2.tif;X:\2008\2945-30-3.tif;X:\2008\2945-30-4.tif;X:\2008\2945-31-1.tif;X:\2008\2945-31-2.tif;X:\2008\2945-31-4.tif;X:\2008\2945-32-1.tif;X:\2008\2945-32-2.tif;X:\2008\2945-32-3.tif;X:\2008\2945-32-4.tif;X:\2008\2945-33-1.tif;X:\2008\2945-33-2.tif;X:\2008\2945-33-3.tif;X:\2008\2945-33-4.tif;X:\2008\2945-34-1.tif;X:\2008\2945-34-2.tif;X:\2008\2945-34-3.tif;X:\2008\2945-34-4.tif;X:\2008\2945-35-1.tif;X:\2008\2945-35-2.tif;X:\2008\2945-35-3.tif;X:\2008\2945-35-4.tif;X:\2008\2945-36-1.tif;X:\2008\2945-36-2.tif;X:\2008\2945-36-3.tif;X:\2008\2945-36-4.tif;X:\2008\2947-14-1.tif;X:\2008\2947-14-2.tif;X:\2008\2947-14-3.tif;X:\2008\2947-14-4.tif;X:\2008\2947-15-1.tif;X:\2008\2947-15-2.tif;X:\2008\2947-15-3.tif;X:\2008\2947-15-4.tif;X:\2008\2947-16-1.tif;X:\2008\2947-16-2.tif;X:\2008\2947-16-3.tif;X:\2008\2947-16-4.tif;X:\2008\2947-17-1.tif;X:\2008\2947-17-2.tif;X:\2008\2947-17-3.tif;X:\2008\2947-17-4.tif;X:\2008\2947-18-1.tif;X:\2008\2947-18-4.tif;X:\2008\2947-19-1.tif;X:\2008\2947-20-1.tif;X:\2008\2947-20-2.tif;X:\2008\2947-20-4.tif;X:\2008\2947-21-1.tif;X:\2008\2947-21-2.tif;X:\2008\2947-21-3.tif;X:\2008\2947-21-4.tif;X:\2008\2947-22-1.tif;X:\2008\2947-22-2.tif;X:\2008\2947-22-3.tif;X:\2008\2947-22-4.tif;X:\2008\2947-23-1.tif;X:\2008\2947-23-2.tif;X:\2008\2947-23-3.tif;X:\2008\2947-23-4.tif;X:\2008\2947-26-1.tif;X:\2008\2947-26-2.tif;X:\2008\2947-26-3.tif;X:\2008\2947-26-4.tif;X:\2008\2947-27-1.tif;X:\2008\2947-27-2.tif;X:\2008\2947-27-3.tif;X:\2008\2947-27-4.tif;X:\2008\2947-28-1.tif;X:\2008\2947-28-2.tif;X:\2008\2947-28-4.tif;X:\2008\2947-29-1.tif;X:\2008\2947-33-1.tif;X:\2008\2947-34-1.tif;X:\2008\2947-34-2.tif;X:\2008\2947-34-4.tif;X:\2008\2947-35-1.tif;X:\2008\2947-35-2.tif;X:\2008\2947-35-3.tif;X:\2008\2947-35-4.tif;X:\2008\2961-02-1.tif;X:\2008\2961-02-2.tif;X:\2008\2961-02-3.tif;X:\2008\2961-02-4.tif;X:\2008\2961-03-1.tif;X:\2008\2961-03-4.tif;X:\2008\2961-10-1.tif;X:\2008\2961-11-1.tif;X:\2008\2961-11-2.tif;X:\2008\2961-13-1.tif;X:\2008\2963-08-1.tif;X:\2008\2963-08-2.tif;X:\2008\2963-08-3.tif;X:\2008\2963-08-4.tif;X:\2008\2963-09-1.tif;X:\2008\2963-09-2.tif;X:\2008\2963-09-3.tif;X:\2008\2963-09-4.tif;X:\2008\2963-10-1.tif;X:\2008\2963-10-2.tif;X:\2008\2963-10-3.tif;X:\2008\2963-10-4.tif;X:\2008\2963-11-1.tif;X:\2008\2963-11-2.tif;X:\2008\2963-11-3.tif;X:\2008\2963-11-4.tif;X:\2008\2963-13-1.tif;X:\2008\2963-13-2.tif;X:\2008\2963-13-3.tif;X:\2008\2963-13-4.tif;X:\2008\2963-14-1.tif;X:\2008\2963-14-2.tif;X:\2008\2963-14-3.tif;X:\2008\2963-14-4.tif;X:\2008\2963-15-1.tif;X:\2008\2963-15-4.tif;X:\2008\2963-18-1.tif;X:\2008\2963-18-2.tif;X:\2008\2965-19-1.tif;X:\2008\2965-19-2.tif;X:\2008\2966-01-1.tif;X:\2008\2966-01-2.tif;X:\2008\2966-01-3.tif;X:\2008\2966-01-4.tif;X:\2008\2967-02-1.tif;X:\2008\2967-02-2.tif;X:\2008\2967-02-3.tif;X:\2008\2967-02-4.tif;X:\2008\2967-03-1.tif;X:\2008\2967-03-2.tif;X:\2008\2967-03-3.tif;X:\2008\2967-03-4.tif;X:\2008\2967-04-1.tif;X:\2008\2967-04-2.tif;X:\2008\2967-04-3.tif;X:\2008\2967-04-4.tif;X:\2008\2967-05-1.tif;X:\2008\2967-05-2.tif;X:\2008\2967-05-3.tif;X:\2008\2967-05-4.tif;X:\2008\2967-06-1.tif;X:\2008\2967-06-2.tif;X:\2008\2967-06-3.tif;X:\2008\2967-06-4.tif;X:\2008\2967-07-1.tif;X:\2008\2967-07-2.tif;X:\2008\2967-07-3.tif;X:\2008\2967-07-4.tif;X:\2008\2967-08-1.tif;X:\2008\2967-08-2.tif;X:\2008\2967-08-3.tif;X:\2008\2967-08-4.tif;X:\2008\2967-09-1.tif;X:\2008\2967-09-2.tif;X:\2008\2967-10-1.tif;X:\2008\2967-10-2.tif;X:\2008\2967-11-1.tif;X:\2008\2967-11-2.tif;X:\2008\2967-17-2.tif UPDATE_CELL_SIZES UPDATE_BOUNDARY UPDATE_OVERVIEWS # 0 1500 # # SUBFOLDERS OVERWRITE_DUPLICATES BUILD_PYRAMIDS CALCULATE_STATISTICS NO_THUMBNAILS # NO_FORCE_SPATIAL_REFERENCE</Process>
<Process Date="20130506" Time="164311" ToolSource="c:\program files (x86)\arcgis\desktop10.1\ArcToolbox\Toolboxes\Data Management Tools.tbx\AnalyzeMosaicDataset">AnalyzeMosaicDataset X:\2008\mosaic2008.gdb\city2008 # FOOTPRINT;FUNCTION;RASTER;PATHS;SOURCE_VALIDITY;STALE;PYRAMIDS;STATISTICS;PERFORMANCE;INFORMATION</Process>
</lineage>
<itemProps>
<itemName Sync="TRUE">city2008</itemName>
<itemLocation>
<linkage Sync="TRUE">file://\\ARCGIS-FS\X\2008\mosaic2008.gdb</linkage>
<protocol Sync="TRUE">Local Area Network</protocol>
</itemLocation>
<nativeExtBox>
<westBL Sync="TRUE">696869.497800</westBL>
<eastBL Sync="TRUE">723096.623400</eastBL>
<southBL Sync="TRUE">4318464.997800</southBL>
<northBL Sync="TRUE">4337862.622200</northBL>
<exTypeCode Sync="TRUE">1</exTypeCode>
</nativeExtBox>
</itemProps>
<coordRef>
<type Sync="TRUE">Projected</type>
<geogcsn Sync="TRUE">GCS_North_American_1983_HARN</geogcsn>
<csUnits Sync="TRUE">Linear Unit: Meter (1.000000)</csUnits>
<projcsn Sync="TRUE">NAD_1983_HARN_UTM_Zone_12N</projcsn>
<peXml Sync="TRUE">&lt;ProjectedCoordinateSystem xsi:type='typens:ProjectedCoordinateSystem' xmlns:xsi='http://www.w3.org/2001/XMLSchema-instance' xmlns:xs='http://www.w3.org/2001/XMLSchema' xmlns:typens='http://www.esri.com/schemas/ArcGIS/10.1'&gt;&lt;WKT&gt;PROJCS[&amp;quot;NAD_1983_HARN_UTM_Zone_12N&amp;quot;,GEOGCS[&amp;quot;GCS_North_American_1983_HARN&amp;quot;,DATUM[&amp;quot;D_North_American_1983_HARN&amp;quot;,SPHEROID[&amp;quot;GRS_1980&amp;quot;,6378137.0,298.257222101]],PRIMEM[&amp;quot;Greenwich&amp;quot;,0.0],UNIT[&amp;quot;Degree&amp;quot;,0.0174532925199433]],PROJECTION[&amp;quot;Transverse_Mercator&amp;quot;],PARAMETER[&amp;quot;False_Easting&amp;quot;,500000.0],PARAMETER[&amp;quot;False_Northing&amp;quot;,0.0],PARAMETER[&amp;quot;Central_Meridian&amp;quot;,-111.0],PARAMETER[&amp;quot;Scale_Factor&amp;quot;,0.9996],PARAMETER[&amp;quot;Latitude_Of_Origin&amp;quot;,0.0],UNIT[&amp;quot;Meter&amp;quot;,1.0],AUTHORITY[&amp;quot;EPSG&amp;quot;,3742]]&lt;/WKT&gt;&lt;XOrigin&gt;-5120900&lt;/XOrigin&gt;&lt;YOrigin&gt;-9998100&lt;/YOrigin&gt;&lt;XYScale&gt;450445547.3910538&lt;/XYScale&gt;&lt;ZOrigin&gt;-100000&lt;/ZOrigin&gt;&lt;ZScale&gt;10000&lt;/ZScale&gt;&lt;MOrigin&gt;-100000&lt;/MOrigin&gt;&lt;MScale&gt;10000&lt;/MScale&gt;&lt;XYTolerance&gt;0.001&lt;/XYTolerance&gt;&lt;ZTolerance&gt;0.001&lt;/ZTolerance&gt;&lt;MTolerance&gt;0.001&lt;/MTolerance&gt;&lt;HighPrecision&gt;true&lt;/HighPrecision&gt;&lt;WKID&gt;102206&lt;/WKID&gt;&lt;LatestWKID&gt;3742&lt;/LatestWKID&gt;&lt;/ProjectedCoordinateSystem&gt;</peXml>
</coordRef>
<RasterProperties>
<General>
<PixelDepth Sync="TRUE">8</PixelDepth>
<HasColormap Sync="TRUE">FALSE</HasColormap>
<CompressionType Sync="TRUE">None</CompressionType>
<NumBands Sync="TRUE">3</NumBands>
<Format Sync="TRUE">AMD</Format>
<HasPyramids Sync="TRUE">TRUE</HasPyramids>
<SourceType Sync="TRUE">continuous</SourceType>
<PixelType Sync="TRUE">unsigned integer</PixelType>
<NoDataValue Sync="TRUE"/>
</General>
<Properties>
<MaxImageHeight Sync="TRUE">4100</MaxImageHeight>
<MaxImageWidth Sync="TRUE">15000</MaxImageWidth>
<MaxRecordCount Sync="TRUE">1000</MaxRecordCount>
<MaxDownloadImageCount Sync="TRUE">20</MaxDownloadImageCount>
<MaxDownloadSizeLimit Sync="TRUE">2048</MaxDownloadSizeLimit>
<MaxMosaicImageCount Sync="TRUE">20</MaxMosaicImageCount>
<DefaultCompressionQuality Sync="TRUE">75</DefaultCompressionQuality>
<DefaultCompressionTolerance Sync="TRUE">0.01</DefaultCompressionTolerance>
<BlendWidth Sync="TRUE">10</BlendWidth>
<ViewpointSpacingX Sync="TRUE">600</ViewpointSpacingX>
<ViewpointSpacingY Sync="TRUE">300</ViewpointSpacingY>
<AllowedItemMetadata Sync="TRUE">Basic</AllowedItemMetadata>
<DefaultResamplingMethod Sync="TRUE">1</DefaultResamplingMethod>
<AllowedMosaicMethods Sync="TRUE">NorthWest,Center,LockRaster,ByAttribute,Nadir,Viewpoint,Seamline,None</AllowedMosaicMethods>
<AllowedCompressions Sync="TRUE">None,JPEG,LZ77,LERC</AllowedCompressions>
<AllowedMensurationCapabilities Sync="TRUE">None,Basic</AllowedMensurationCapabilities>
<AvailableMensurationCapabilities Sync="TRUE">None,Basic,Base-Top Height,Top-Top Shadow Height,Base-Top Shadow Height,3D</AvailableMensurationCapabilities>
<ClipToBoundary Sync="TRUE">-1</ClipToBoundary>
<FootprintMayContainNoData Sync="TRUE">-1</FootprintMayContainNoData>
<CellSizeTolerance Sync="TRUE">0.8</CellSizeTolerance>
<MinimumPixelContribution Sync="TRUE">1</MinimumPixelContribution>
<AvailableMosaicMethods Sync="TRUE">NorthWest,Center,LockRaster,ByAttribute,Nadir,Viewpoint,Seamline,None</AvailableMosaicMethods>
<AvailableCompressionMethods Sync="TRUE">None,JPEG,LZ77,LERC</AvailableCompressionMethods>
<AvailableItemMetadataLevels Sync="TRUE">None,Basic,Full</AvailableItemMetadataLevels>
<ConfigKeyword Sync="TRUE"/>
<BandDefinitionKeyword Sync="TRUE">NaturalColor</BandDefinitionKeyword>
<AllowedFields Sync="TRUE">Name,MinPS,MaxPS,LowPS,HighPS,Tag,GroupName,ProductName,CenterX,CenterY,ZOrder,Shape_Length,Shape_Area</AllowedFields>
<MaxCellSize Sync="TRUE">7406.63999999854</MaxCellSize>
<LowCellSize Sync="TRUE">0.152399999999501</LowCellSize>
<HighCellSize Sync="TRUE">148.132799999971</HighCellSize>
</Properties>
<Functions Sync="TRUE">
<Function Description="Performs on-the-fly mosaic on a raster catalog." Name="Mosaic Function"/>
</Functions>
</RasterProperties>
</DataProperties>
<SyncDate>20140305</SyncDate>
<SyncTime>10174000</SyncTime>
<ModDate>20140305</ModDate>
<ModTime>10174000</ModTime>
</Esri>
<dataIdInfo>
<envirDesc Sync="TRUE">Microsoft Windows Server 2008 R2 Version 6.1 (Build 7601) Service Pack 1; Esri ArcGIS 10.1.1.3143</envirDesc>
<dataLang>
<languageCode Sync="TRUE" value="eng"/>
<countryCode Sync="TRUE" value="USA"/>
</dataLang>
<idCitation>
<resTitle Sync="TRUE">2008city</resTitle>
<presForm>
<PresFormCd Sync="TRUE" value="005"/>
</presForm>
</idCitation>
<spatRpType>
<SpatRepTypCd Sync="TRUE" value="002"/>
</spatRpType>
<dataExt>
<geoEle>
<GeoBndBox esriExtentType="search">
<exTypeCode Sync="TRUE">1</exTypeCode>
<westBL Sync="TRUE">-108.726811</westBL>
<eastBL Sync="TRUE">-108.417883</eastBL>
<northBL Sync="TRUE">39.167723</northBL>
<southBL Sync="TRUE">38.986774</southBL>
</GeoBndBox>
</geoEle>
</dataExt>
<idAbs/>
<searchKeys>
<keyword>Image Services</keyword>
</searchKeys>
<idPurp>2008 city</idPurp>
<idCredit/>
<resConst>
<Consts>
<useLimit/>
</Consts>
</resConst>
</dataIdInfo>
<mdLang>
<languageCode Sync="TRUE" value="eng"/>
<countryCode Sync="TRUE" value="USA"/>
</mdLang>
<refSysInfo>
<RefSystem>
<refSysID>
<identCode Sync="TRUE" code="3742"/>
<idCodeSpace Sync="TRUE">EPSG</idCodeSpace>
<idVersion Sync="TRUE">7.11.2</idVersion>
</refSysID>
</RefSystem>
</refSysInfo>
<spatRepInfo>
<Georect>
<cellGeo>
<CellGeoCd Sync="TRUE" value="002"/>
</cellGeo>
<numDims Sync="TRUE">2</numDims>
<tranParaAv Sync="TRUE">1</tranParaAv>
<chkPtAv Sync="TRUE">0</chkPtAv>
<cornerPts>
<pos Sync="TRUE">696869.497800 4318464.997800</pos>
</cornerPts>
<cornerPts>
<pos Sync="TRUE">696869.497800 4337862.622200</pos>
</cornerPts>
<cornerPts>
<pos Sync="TRUE">723096.623400 4337862.622200</pos>
</cornerPts>
<cornerPts>
<pos Sync="TRUE">723096.623400 4318464.997800</pos>
</cornerPts>
<centerPt>
<pos Sync="TRUE">709983.060600 4328163.810000</pos>
</centerPt>
<axisDimension type="002">
<dimSize Sync="TRUE">172094</dimSize>
<dimResol>
<value Sync="TRUE" uom="Meter">0.152400</value>
</dimResol>
</axisDimension>
<axisDimension type="001">
<dimSize Sync="TRUE">127281</dimSize>
<dimResol>
<value Sync="TRUE" uom="Meter">0.152400</value>
</dimResol>
</axisDimension>
<ptInPixel>
<PixOrientCd Sync="TRUE" value="001"/>
</ptInPixel>
</Georect>
</spatRepInfo>
<contInfo>
<ImgDesc>
<contentTyp>
<ContentTypCd Sync="TRUE" value="001"/>
</contentTyp>
<covDim>
<Band>
<dimDescrp Sync="TRUE">Red</dimDescrp>
<maxVal Sync="TRUE">255.000000</maxVal>
<minVal Sync="TRUE">0.000000</minVal>
<bitsPerVal Sync="TRUE">8</bitsPerVal>
<valUnit>
<UOM type="length"/>
</valUnit>
</Band>
<Band>
<dimDescrp Sync="TRUE">Green</dimDescrp>
<maxVal Sync="TRUE">255.000000</maxVal>
<minVal Sync="TRUE">0.000000</minVal>
<bitsPerVal Sync="TRUE">8</bitsPerVal>
<valUnit>
<UOM type="length"/>
</valUnit>
</Band>
<Band>
<dimDescrp Sync="TRUE">Blue</dimDescrp>
<maxVal Sync="TRUE">255.000000</maxVal>
<minVal Sync="TRUE">0.000000</minVal>
<bitsPerVal Sync="TRUE">8</bitsPerVal>
<valUnit>
<UOM type="length"/>
</valUnit>
</Band>
</covDim>
</ImgDesc>
</contInfo>
<mdDateSt Sync="TRUE">20140305</mdDateSt>
</metadata>
