<?xml version="1.0" encoding="UTF-8" standalone="no"?>
<metadata xml:lang="en">
<Esri>
<CreaDate>20130501</CreaDate>
<CreaTime>13461300</CreaTime>
<ArcGISFormat>1.0</ArcGISFormat>
<SyncOnce>FALSE</SyncOnce>
<DataProperties>
<lineage>
<Process Date="20130501" Time="134613" ToolSource="c:\program files (x86)\arcgis\desktop10.1\ArcToolbox\Toolboxes\Data Management Tools.tbx\CreateMosaicDataset">CreateMosaicDataset X:\2003\mosaic2003.gdb county2003 "PROJCS['NAD_1983_HARN_UTM_Zone_12N',GEOGCS['GCS_North_American_1983_HARN',DATUM['D_North_American_1983_HARN',SPHEROID['GRS_1980',6378137.0,298.257222101]],PRIMEM['Greenwich',0.0],UNIT['Degree',0.0174532925199433]],PROJECTION['Transverse_Mercator'],PARAMETER['False_Easting',500000.0],PARAMETER['False_Northing',0.0],PARAMETER['Central_Meridian',-111.0],PARAMETER['Scale_Factor',0.9996],PARAMETER['Latitude_Of_Origin',0.0],UNIT['Meter',1.0]];-5120900 -9998100 10000;-100000 10000;-100000 10000;0.001;0.001;0.001;IsHighPrecision" 3 # NATURAL_COLOR_RGB "Red 630 690;Green 530 570;Blue 440 480"</Process>
<Process Date="20130501" Time="151511" ToolSource="c:\program files (x86)\arcgis\desktop10.1\ArcToolbox\Toolboxes\Data Management Tools.tbx\AddRastersToMosaicDataset">AddRastersToMosaicDataset X:\2003\mosaic2003.gdb\county2003 "Raster Dataset" X:\2003\atkinson_creek_ne.tif;X:\2003\atkinson_creek_nw.tif;X:\2003\badger_wash_ne.tif;X:\2003\badger_wash_nw.tif;X:\2003\badger_wash_se.tif;X:\2003\badger_wash_sw.tif;X:\2003\bar_x_wash_ne.tif;X:\2003\bar_x_wash_nw.tif;X:\2003\bar_x_wash_se.tif;X:\2003\bar_x_wash_sw.tif;X:\2003\battleship_rock_ne.tif;X:\2003\battleship_rock_nw.tif;X:\2003\battleship_rock_se.tif;X:\2003\battleship_rock_sw.tif;X:\2003\bieser_creek_ne.tif;X:\2003\bieser_creek_nw.tif;X:\2003\bieser_creek_se.tif;X:\2003\bieser_creek_sw.tif;X:\2003\bitter_creek_well_ne.tif;X:\2003\bitter_creek_well_nw.tif;X:\2003\bitter_creek_well_se.tif;X:\2003\bitter_creek_well_sw.tif;X:\2003\buckeye_reservoir_ne.tif;X:\2003\buckeye_reservoir_nw.tif;X:\2003\calamity_mesa_ne.tif;X:\2003\calamity_mesa_nw.tif;X:\2003\calamity_mesa_se.tif;X:\2003\calamity_mesa_sw.tif;X:\2003\cameo_ne.tif;X:\2003\cameo_nw.tif;X:\2003\cameo_se.tif;X:\2003\cameo_sw.tif;X:\2003\carbonera_se.tif;X:\2003\carbonera_sw.tif;X:\2003\casto_reservoir_ne.tif;X:\2003\casto_reservoir_nw.tif;X:\2003\casto_reservoir_se.tif;X:\2003\casto_reservoir_sw.tif;X:\2003\cattle_creek_sw.tif;X:\2003\center_mountain_se.tif;X:\2003\center_mountain_sw.tif;X:\2003\chalk_mountain_ne.tif;X:\2003\chalk_mountain_nw.tif;X:\2003\chalk_mountain_sw.tif;X:\2003\clifton_ne.tif;X:\2003\clifton_nw.tif;X:\2003\clifton_se.tif;X:\2003\clifton_sw.tif;X:\2003\collbran_ne.tif;X:\2003\collbran_nw.tif;X:\2003\collbran_se.tif;X:\2003\collbran_sw.tif;X:\2003\colorado_national_monument_ne.tif;X:\2003\colorado_national_monument_nw.tif;X:\2003\colorado_national_monument_se.tif;X:\2003\colorado_national_monument_sw.tif;X:\2003\corcoran_peak_ne.tif;X:\2003\corcoran_peak_nw.tif;X:\2003\corcoran_peak_se.tif;X:\2003\corcoran_peak_sw.tif;X:\2003\corcoran_point_ne.tif;X:\2003\corcoran_point_nw.tif;X:\2003\corcoran_point_se.tif;X:\2003\corcoran_point_sw.tif;X:\2003\cottonwood_basin_nw.tif;X:\2003\cottonwood_basin_sw.tif;X:\2003\de_beque_ne.tif;X:\2003\de_beque_nw.tif;X:\2003\de_beque_se.tif;X:\2003\de_beque_sw.tif;X:\2003\dolores_point_north_ne.tif;X:\2003\dolores_point_north_nw.tif;X:\2003\dolores_point_north_se.tif;X:\2003\dolores_point_north_sw.tif;X:\2003\dolores_point_south_ne.tif;X:\2003\dolores_point_south_nw.tif;X:\2003\dolores_point_south_se.tif;X:\2003\dolores_point_south_sw.tif;X:\2003\dominguez_ne.tif;X:\2003\dominguez_nw.tif;X:\2003\dominguez_se.tif;X:\2003\dominguez_sw.tif;X:\2003\electric_mountain_nw.tif;X:\2003\elk_knob_ne.tif;X:\2003\elk_knob_nw.tif;X:\2003\elk_knob_sw.tif;X:\2003\escalante_forks_ne.tif;X:\2003\escalante_forks_nw.tif;X:\2003\escalante_forks_se.tif;X:\2003\escalante_forks_sw.tif;X:\2003\fish_creek_ne.tif;X:\2003\fish_creek_nw.tif;X:\2003\fish_creek_se.tif;X:\2003\fish_creek_sw.tif;X:\2003\flatiron_mountain_ne.tif;X:\2003\flatiron_mountain_nw.tif;X:\2003\flatiron_mountain_se.tif;X:\2003\flatiron_mountain_sw.tif;X:\2003\fruita_ne.tif;X:\2003\fruita_nw.tif;X:\2003\fruita_se.tif;X:\2003\fruita_sw.tif;X:\2003\garvey_canyon_se.tif;X:\2003\garvey_canyon_sw.tif;X:\2003\gateway_ne.tif;X:\2003\gateway_nw.tif;X:\2003\gateway_se.tif;X:\2003\gateway_sw.tif;X:\2003\gibson_gulch_se.tif;X:\2003\gibson_gulch_sw.tif;X:\2003\glade_park_ne.tif;X:\2003\glade_park_nw.tif;X:\2003\glade_park_se.tif;X:\2003\glade_park_sw.tif;X:\2003\good_point_nw.tif;X:\2003\good_point_sw.tif;X:\2003\grand_junction_ne.tif;X:\2003\grand_junction_nw.tif;X:\2003\grand_junction_se.tif;X:\2003\grand_junction_sw.tif;X:\2003\grand_mesa_ne.tif;X:\2003\grand_mesa_nw.tif;X:\2003\grand_mesa_se.tif;X:\2003\grand_mesa_sw.tif;X:\2003\hawxhurst_creek_ne.tif;X:\2003\hawxhurst_creek_nw.tif;X:\2003\hawxhurst_creek_se.tif;X:\2003\hawxhurst_creek_sw.tif;X:\2003\hells_kitchen_ne.tif;X:\2003\hells_kitchen_nw.tif;X:\2003\hells_kitchen_se.tif;X:\2003\hells_kitchen_sw.tif;X:\2003\highline_lake_ne.tif;X:\2003\highline_lake_nw.tif;X:\2003\highline_lake_se.tif;X:\2003\highline_lake_sw.tif;X:\2003\hightower_mountain_ne.tif;X:\2003\hightower_mountain_nw.tif;X:\2003\hightower_mountain_se.tif;X:\2003\hightower_mountain_sw.tif;X:\2003\housetop_mountain_ne.tif;X:\2003\housetop_mountain_nw.tif;X:\2003\housetop_mountain_se.tif;X:\2003\housetop_mountain_sw.tif;X:\2003\howard_canyon_se.tif;X:\2003\howard_canyon_sw.tif;X:\2003\hunter_mesa_se.tif;X:\2003\hunter_mesa_sw.tif;X:\2003\indian_point_ne.tif;X:\2003\indian_point_nw.tif;X:\2003\indian_point_se.tif;X:\2003\indian_point_sw.tif;X:\2003\island_mesa_ne.tif;X:\2003\island_mesa_nw.tif;X:\2003\island_mesa_se.tif;X:\2003\island_mesa_sw.tif;X:\2003\jacks_canyon_ne.tif;X:\2003\jacks_canyon_nw.tif;X:\2003\jacks_canyon_se.tif;X:\2003\jacks_canyon_sw.tif;X:\2003\jim_canyon_se.tif;X:\2003\jim_canyon_sw.tif;X:\2003\juanita_arch_ne.tif;X:\2003\juanita_arch_nw.tif;X:\2003\juanita_arch_se.tif;X:\2003\juanita_arch_sw.tif;X:\2003\juniata_reservoir_ne.tif;X:\2003\juniata_reservoir_nw.tif;X:\2003\juniata_reservoir_se.tif;X:\2003\juniata_reservoir_sw.tif;X:\2003\keith_creek_ne.tif;X:\2003\keith_creek_nw.tif;X:\2003\keith_creek_se.tif;X:\2003\keith_creek_sw.tif;X:\2003\kelso_point_ne.tif;X:\2003\kelso_point_nw.tif;X:\2003\kelso_point_se.tif;X:\2003\kelso_point_sw.tif;X:\2003\lands_end_ne.tif;X:\2003\lands_end_nw.tif;X:\2003\lands_end_se.tif;X:\2003\lands_end_sw.tif;X:\2003\leon_peak_ne.tif;X:\2003\leon_peak_nw.tif;X:\2003\leon_peak_se.tif;X:\2003\leon_peak_sw.tif;X:\2003\long_point_se.tif;X:\2003\long_point_sw.tif;X:\2003\mack_ne.tif;X:\2003\mack_nw.tif;X:\2003\mack_se.tif;X:\2003\mack_sw.tif;X:\2003\marble_canyon_ne.tif;X:\2003\marble_canyon_nw.tif;X:\2003\marble_canyon_se.tif;X:\2003\marble_canyon_sw.tif;X:\2003\mesa_lakes_ne.tif;X:\2003\mesa_lakes_nw.tif;X:\2003\mesa_lakes_se.tif;X:\2003\mesa_lakes_sw.tif;X:\2003\mesa_ne.tif;X:\2003\mesa_nw.tif;X:\2003\mesa_se.tif;X:\2003\mesa_sw.tif;X:\2003\middle_dry_fork_se.tif;X:\2003\middle_dry_fork_sw.tif;X:\2003\molina_ne.tif;X:\2003\molina_nw.tif;X:\2003\molina_se.tif;X:\2003\molina_sw.tif;X:\2003\moore_mesa_nw.tif;X:\2003\north_delta_ne.tif;X:\2003\north_delta_nw.tif;X:\2003\north_mamm_peak_se.tif;X:\2003\north_mamm_peak_sw.tif;X:\2003\palisade_ne.tif;X:\2003\palisade_nw.tif;X:\2003\palisade_se.tif;X:\2003\palisade_sw.tif;X:\2003\parachute_se.tif;X:\2003\parachute_sw.tif;X:\2003\payne_wash_ne.tif;X:\2003\payne_wash_nw.tif;X:\2003\payne_wash_se.tif;X:\2003\payne_wash_sw.tif;X:\2003\pine_mountain_ne.tif;X:\2003\pine_mountain_nw.tif;X:\2003\pine_mountain_se.tif;X:\2003\pine_mountain_sw.tif;X:\2003\point_creek_ne.tif;X:\2003\point_creek_nw.tif;X:\2003\point_creek_se.tif;X:\2003\point_creek_sw.tif;X:\2003\porter_mountain_ne.tif;X:\2003\porter_mountain_nw.tif;X:\2003\porter_mountain_se.tif;X:\2003\porter_mountain_sw.tif;X:\2003\quaker_mesa_ne.tif;X:\2003\quaker_mesa_nw.tif;X:\2003\quaker_mesa_se.tif;X:\2003\quaker_mesa_sw.tif;X:\2003\red_canyon_ne.tif;X:\2003\red_canyon_nw.tif;X:\2003\red_pinnacle_se.tif;X:\2003\red_pinnacle_sw.tif;X:\2003\roc_creek_ne.tif;X:\2003\roc_creek_nw.tif;X:\2003\round_mountain_ne.tif;X:\2003\round_mountain_nw.tif;X:\2003\round_mountain_se.tif;X:\2003\round_mountain_sw.tif;X:\2003\ruby_canyon_ne.tif;X:\2003\ruby_canyon_nw.tif;X:\2003\ruby_canyon_se.tif;X:\2003\ruby_canyon_sw.tif;X:\2003\ruby_lee_reservoir_ne.tif;X:\2003\ruby_lee_reservoir_nw.tif;X:\2003\ruby_lee_reservoir_se.tif;X:\2003\ruby_lee_reservoir_sw.tif;X:\2003\rulison_se.tif;X:\2003\rulison_sw.tif;X:\2003\sieber_canyon_ne.tif;X:\2003\sieber_canyon_nw.tif;X:\2003\sieber_canyon_se.tif;X:\2003\sieber_canyon_sw.tif;X:\2003\snipe_mountain_ne.tif;X:\2003\snipe_mountain_nw.tif;X:\2003\snipe_mountain_se.tif;X:\2003\snipe_mountain_sw.tif;X:\2003\snyder_flats_ne.tif;X:\2003\snyder_flats_nw.tif;X:\2003\snyder_flats_se.tif;X:\2003\snyder_flats_sw.tif;X:\2003\south_mamm_peak_ne.tif;X:\2003\south_mamm_peak_nw.tif;X:\2003\south_mamm_peak_se.tif;X:\2003\south_mamm_peak_sw.tif;X:\2003\spruce_mountain_ne.tif;X:\2003\spruce_mountain_nw.tif;X:\2003\spruce_mountain_se.tif;X:\2003\spruce_mountain_sw.tif;X:\2003\starvation_point_ne.tif;X:\2003\starvation_point_nw.tif;X:\2003\steamboat_mesa_ne.tif;X:\2003\steamboat_mesa_nw.tif;X:\2003\steamboat_mesa_se.tif;X:\2003\steamboat_mesa_sw.tif;X:\2003\stony_ridge_nw.tif;X:\2003\the_saddle_se.tif;X:\2003\the_saddle_sw.tif;X:\2003\triangle_mesa_ne.tif;X:\2003\triangle_mesa_nw.tif;X:\2003\triangle_mesa_se.tif;X:\2003\triangle_mesa_sw.tif;X:\2003\two_v_basin_ne.tif;X:\2003\two_v_basin_nw.tif;X:\2003\two_v_basin_se.tif;X:\2003\two_v_basin_sw.tif;X:\2003\uncompahgre_butte_ne.tif;X:\2003\uncompahgre_butte_nw.tif;X:\2003\uncompahgre_butte_se.tif;X:\2003\uncompahgre_butte_sw.tif;X:\2003\vega_reservoir_ne.tif;X:\2003\vega_reservoir_nw.tif;X:\2003\vega_reservoir_se.tif;X:\2003\vega_reservoir_sw.tif;X:\2003\wagon_track_ridge_ne.tif;X:\2003\wagon_track_ridge_nw.tif;X:\2003\wagon_track_ridge_se.tif;X:\2003\wagon_track_ridge_sw.tif;X:\2003\westwater_ne.tif;X:\2003\westwater_nw.tif;X:\2003\westwater_se.tif;X:\2003\westwater_sw.tif;X:\2003\whitewater_ne.tif;X:\2003\whitewater_nw.tif;X:\2003\whitewater_se.tif;X:\2003\whitewater_sw.tif;X:\2003\windy_point_ne.tif;X:\2003\windy_point_nw.tif;X:\2003\winter_flats_ne.tif;X:\2003\winter_flats_nw.tif;X:\2003\winter_flats_se.tif;X:\2003\winter_flats_sw.tif UPDATE_CELL_SIZES UPDATE_BOUNDARY UPDATE_OVERVIEWS # 0 1500 # # SUBFOLDERS ALLOW_DUPLICATES BUILD_PYRAMIDS CALCULATE_STATISTICS NO_THUMBNAILS # NO_FORCE_SPATIAL_REFERENCE</Process>
<Process Date="20130501" Time="151647" ToolSource="c:\program files (x86)\arcgis\desktop10.1\ArcToolbox\Toolboxes\Data Management Tools.tbx\AnalyzeMosaicDataset">AnalyzeMosaicDataset X:\2003\mosaic2003.gdb\county2003 # FOOTPRINT;FUNCTION;RASTER;PATHS;SOURCE_VALIDITY;STALE;PYRAMIDS;STATISTICS;PERFORMANCE;INFORMATION</Process>
</lineage>
<itemProps>
<itemName Sync="TRUE">county2003</itemName>
<itemLocation>
<linkage Sync="TRUE">file://\\ARCGIS-FS\X\2003\mosaic2003.gdb</linkage>
<protocol Sync="TRUE">Local Area Network</protocol>
</itemLocation>
<nativeExtBox>
<westBL Sync="TRUE">661003.003000</westBL>
<eastBL Sync="TRUE">818241.583000</eastBL>
<southBL Sync="TRUE">4255720.130000</southBL>
<northBL Sync="TRUE">4372120.968000</northBL>
<exTypeCode Sync="TRUE">1</exTypeCode>
</nativeExtBox>
</itemProps>
<coordRef>
<type Sync="TRUE">Projected</type>
<geogcsn Sync="TRUE">GCS_North_American_1983_HARN</geogcsn>
<csUnits Sync="TRUE">Linear Unit: Meter (1.000000)</csUnits>
<projcsn Sync="TRUE">NAD_1983_HARN_UTM_Zone_12N</projcsn>
<peXml Sync="TRUE">&lt;ProjectedCoordinateSystem xsi:type='typens:ProjectedCoordinateSystem' xmlns:xsi='http://www.w3.org/2001/XMLSchema-instance' xmlns:xs='http://www.w3.org/2001/XMLSchema' xmlns:typens='http://www.esri.com/schemas/ArcGIS/10.1'&gt;&lt;WKT&gt;PROJCS[&amp;quot;NAD_1983_HARN_UTM_Zone_12N&amp;quot;,GEOGCS[&amp;quot;GCS_North_American_1983_HARN&amp;quot;,DATUM[&amp;quot;D_North_American_1983_HARN&amp;quot;,SPHEROID[&amp;quot;GRS_1980&amp;quot;,6378137.0,298.257222101]],PRIMEM[&amp;quot;Greenwich&amp;quot;,0.0],UNIT[&amp;quot;Degree&amp;quot;,0.0174532925199433]],PROJECTION[&amp;quot;Transverse_Mercator&amp;quot;],PARAMETER[&amp;quot;False_Easting&amp;quot;,500000.0],PARAMETER[&amp;quot;False_Northing&amp;quot;,0.0],PARAMETER[&amp;quot;Central_Meridian&amp;quot;,-111.0],PARAMETER[&amp;quot;Scale_Factor&amp;quot;,0.9996],PARAMETER[&amp;quot;Latitude_Of_Origin&amp;quot;,0.0],UNIT[&amp;quot;Meter&amp;quot;,1.0],AUTHORITY[&amp;quot;EPSG&amp;quot;,3742]]&lt;/WKT&gt;&lt;XOrigin&gt;-5120900&lt;/XOrigin&gt;&lt;YOrigin&gt;-9998100&lt;/YOrigin&gt;&lt;XYScale&gt;450445547.3910538&lt;/XYScale&gt;&lt;ZOrigin&gt;-100000&lt;/ZOrigin&gt;&lt;ZScale&gt;10000&lt;/ZScale&gt;&lt;MOrigin&gt;-100000&lt;/MOrigin&gt;&lt;MScale&gt;10000&lt;/MScale&gt;&lt;XYTolerance&gt;0.001&lt;/XYTolerance&gt;&lt;ZTolerance&gt;0.001&lt;/ZTolerance&gt;&lt;MTolerance&gt;0.001&lt;/MTolerance&gt;&lt;HighPrecision&gt;true&lt;/HighPrecision&gt;&lt;WKID&gt;102206&lt;/WKID&gt;&lt;LatestWKID&gt;3742&lt;/LatestWKID&gt;&lt;/ProjectedCoordinateSystem&gt;</peXml>
</coordRef>
<RasterProperties>
<General>
<PixelDepth Sync="TRUE">8</PixelDepth>
<HasColormap Sync="TRUE">FALSE</HasColormap>
<CompressionType Sync="TRUE">None</CompressionType>
<NumBands Sync="TRUE">3</NumBands>
<Format Sync="TRUE">AMD</Format>
<HasPyramids Sync="TRUE">TRUE</HasPyramids>
<SourceType Sync="TRUE">continuous</SourceType>
<PixelType Sync="TRUE">unsigned integer</PixelType>
<NoDataValue Sync="TRUE"/>
</General>
<Properties>
<MaxImageHeight Sync="TRUE">4100</MaxImageHeight>
<MaxImageWidth Sync="TRUE">15000</MaxImageWidth>
<MaxRecordCount Sync="TRUE">1000</MaxRecordCount>
<MaxDownloadImageCount Sync="TRUE">20</MaxDownloadImageCount>
<MaxDownloadSizeLimit Sync="TRUE">2048</MaxDownloadSizeLimit>
<MaxMosaicImageCount Sync="TRUE">20</MaxMosaicImageCount>
<DefaultCompressionQuality Sync="TRUE">75</DefaultCompressionQuality>
<DefaultCompressionTolerance Sync="TRUE">0.01</DefaultCompressionTolerance>
<BlendWidth Sync="TRUE">10</BlendWidth>
<ViewpointSpacingX Sync="TRUE">600</ViewpointSpacingX>
<ViewpointSpacingY Sync="TRUE">300</ViewpointSpacingY>
<AllowedItemMetadata Sync="TRUE">Basic</AllowedItemMetadata>
<DefaultResamplingMethod Sync="TRUE">1</DefaultResamplingMethod>
<AllowedMosaicMethods Sync="TRUE">NorthWest,Center,LockRaster,ByAttribute,Nadir,Viewpoint,Seamline,None</AllowedMosaicMethods>
<AllowedCompressions Sync="TRUE">None,JPEG,LZ77,LERC</AllowedCompressions>
<AllowedMensurationCapabilities Sync="TRUE">None,Basic</AllowedMensurationCapabilities>
<AvailableMensurationCapabilities Sync="TRUE">None,Basic,Base-Top Height,Top-Top Shadow Height,Base-Top Shadow Height,3D</AvailableMensurationCapabilities>
<ClipToBoundary Sync="TRUE">-1</ClipToBoundary>
<FootprintMayContainNoData Sync="TRUE">-1</FootprintMayContainNoData>
<CellSizeTolerance Sync="TRUE">0.8</CellSizeTolerance>
<MinimumPixelContribution Sync="TRUE">1</MinimumPixelContribution>
<AvailableMosaicMethods Sync="TRUE">NorthWest,Center,LockRaster,ByAttribute,Nadir,Viewpoint,Seamline,None</AvailableMosaicMethods>
<AvailableCompressionMethods Sync="TRUE">None,JPEG,LZ77,LERC</AvailableCompressionMethods>
<AvailableItemMetadataLevels Sync="TRUE">None,Basic,Full</AvailableItemMetadataLevels>
<ConfigKeyword Sync="TRUE"/>
<BandDefinitionKeyword Sync="TRUE">NaturalColor</BandDefinitionKeyword>
<AllowedFields Sync="TRUE">Name,MinPS,MaxPS,LowPS,HighPS,Tag,GroupName,ProductName,CenterX,CenterY,ZOrder,Shape_Length,Shape_Area</AllowedFields>
<MaxCellSize Sync="TRUE">32416.2000000003</MaxCellSize>
<LowCellSize Sync="TRUE">0.66699999999996</LowCellSize>
<HighCellSize Sync="TRUE">648.324000000006</HighCellSize>
</Properties>
<Functions Sync="TRUE">
<Function Description="Performs on-the-fly mosaic on a raster catalog." Name="Mosaic Function"/>
</Functions>
</RasterProperties>
</DataProperties>
<SyncDate>20140305</SyncDate>
<SyncTime>10174000</SyncTime>
<ModDate>20140305</ModDate>
<ModTime>10174000</ModTime>
</Esri>
<dataIdInfo>
<envirDesc Sync="TRUE">Microsoft Windows Server 2008 R2 Version 6.1 (Build 7601) Service Pack 1; Esri ArcGIS 10.1.1.3143</envirDesc>
<dataLang>
<languageCode Sync="TRUE" value="eng"/>
<countryCode Sync="TRUE" value="USA"/>
</dataLang>
<idCitation>
<resTitle Sync="TRUE">2003county</resTitle>
<presForm>
<PresFormCd Sync="TRUE" value="005"/>
</presForm>
</idCitation>
<spatRpType>
<SpatRepTypCd Sync="TRUE" value="002"/>
</spatRpType>
<dataExt>
<geoEle>
<GeoBndBox esriExtentType="search">
<exTypeCode Sync="TRUE">1</exTypeCode>
<westBL Sync="TRUE">-109.155314</westBL>
<eastBL Sync="TRUE">-107.302297</eastBL>
<northBL Sync="TRUE">39.483633</northBL>
<southBL Sync="TRUE">38.393091</southBL>
</GeoBndBox>
</geoEle>
</dataExt>
<idAbs/>
<searchKeys>
<keyword>Image Service</keyword>
</searchKeys>
<idPurp>2003 county</idPurp>
<idCredit/>
<resConst>
<Consts>
<useLimit/>
</Consts>
</resConst>
</dataIdInfo>
<mdLang>
<languageCode Sync="TRUE" value="eng"/>
<countryCode Sync="TRUE" value="USA"/>
</mdLang>
<refSysInfo>
<RefSystem>
<refSysID>
<identCode Sync="TRUE" code="3742"/>
<idCodeSpace Sync="TRUE">EPSG</idCodeSpace>
<idVersion Sync="TRUE">7.11.2</idVersion>
</refSysID>
</RefSystem>
</refSysInfo>
<spatRepInfo>
<Georect>
<cellGeo>
<CellGeoCd Sync="TRUE" value="002"/>
</cellGeo>
<numDims Sync="TRUE">2</numDims>
<tranParaAv Sync="TRUE">1</tranParaAv>
<chkPtAv Sync="TRUE">0</chkPtAv>
<cornerPts>
<pos Sync="TRUE">661003.003000 4255720.130000</pos>
</cornerPts>
<cornerPts>
<pos Sync="TRUE">661003.003000 4372120.968000</pos>
</cornerPts>
<cornerPts>
<pos Sync="TRUE">818241.583000 4372120.968000</pos>
</cornerPts>
<cornerPts>
<pos Sync="TRUE">818241.583000 4255720.130000</pos>
</cornerPts>
<centerPt>
<pos Sync="TRUE">739622.293000 4313920.549000</pos>
</centerPt>
<axisDimension type="002">
<dimSize Sync="TRUE">235740</dimSize>
<dimResol>
<value Sync="TRUE" uom="Meter">0.667000</value>
</dimResol>
</axisDimension>
<axisDimension type="001">
<dimSize Sync="TRUE">174514</dimSize>
<dimResol>
<value Sync="TRUE" uom="Meter">0.667000</value>
</dimResol>
</axisDimension>
<ptInPixel>
<PixOrientCd Sync="TRUE" value="001"/>
</ptInPixel>
</Georect>
</spatRepInfo>
<contInfo>
<ImgDesc>
<contentTyp>
<ContentTypCd Sync="TRUE" value="001"/>
</contentTyp>
<covDim>
<Band>
<dimDescrp Sync="TRUE">Red</dimDescrp>
<maxVal Sync="TRUE">255.000000</maxVal>
<minVal Sync="TRUE">0.000000</minVal>
<bitsPerVal Sync="TRUE">8</bitsPerVal>
<valUnit>
<UOM type="length"/>
</valUnit>
</Band>
<Band>
<dimDescrp Sync="TRUE">Green</dimDescrp>
<maxVal Sync="TRUE">255.000000</maxVal>
<minVal Sync="TRUE">0.000000</minVal>
<bitsPerVal Sync="TRUE">8</bitsPerVal>
<valUnit>
<UOM type="length"/>
</valUnit>
</Band>
<Band>
<dimDescrp Sync="TRUE">Blue</dimDescrp>
<maxVal Sync="TRUE">255.000000</maxVal>
<minVal Sync="TRUE">0.000000</minVal>
<bitsPerVal Sync="TRUE">8</bitsPerVal>
<valUnit>
<UOM type="length"/>
</valUnit>
</Band>
</covDim>
</ImgDesc>
</contInfo>
<mdDateSt Sync="TRUE">20140305</mdDateSt>
</metadata>
