<?xml version="1.0" encoding="UTF-8" standalone="no"?>
<metadata xml:lang="en">
<Esri>
<CreaDate>20130501</CreaDate>
<CreaTime>09141600</CreaTime>
<ArcGISFormat>1.0</ArcGISFormat>
<SyncOnce>FALSE</SyncOnce>
<DataProperties>
<lineage>
<Process Date="20130501" Time="091416" ToolSource="c:\program files (x86)\arcgis\desktop10.1\ArcToolbox\Toolboxes\Data Management Tools.tbx\CreateMosaicDataset">CreateMosaicDataset X:\1999\mosaic1999.gdb county1999 "PROJCS['NAD_1983_HARN_UTM_Zone_12N',GEOGCS['GCS_North_American_1983_HARN',DATUM['D_North_American_1983_HARN',SPHEROID['GRS_1980',6378137.0,298.257222101]],PRIMEM['Greenwich',0.0],UNIT['Degree',0.0174532925199433]],PROJECTION['Transverse_Mercator'],PARAMETER['False_Easting',500000.0],PARAMETER['False_Northing',0.0],PARAMETER['Central_Meridian',-111.0],PARAMETER['Scale_Factor',0.9996],PARAMETER['Latitude_Of_Origin',0.0],UNIT['Meter',1.0]];-5120900 -9998100 10000;-100000 10000;-100000 10000;0.001;0.001;0.001;IsHighPrecision" 3 # NATURAL_COLOR_RGB "Red 630 690;Green 530 570;Blue 440 480"</Process>
<Process Date="20130501" Time="093021" ToolSource="c:\program files (x86)\arcgis\desktop10.1\ArcToolbox\Toolboxes\Data Management Tools.tbx\AddRastersToMosaicDataset">AddRastersToMosaicDataset X:\1999\mosaic1999.gdb\county1999 "Raster Dataset" X:\1999\2935-01.TIF;X:\1999\2935-02.tif;X:\1999\2935-03.tif;X:\1999\2935-04.tif;X:\1999\2935-05.TIF;X:\1999\2935-06.TIF;X:\1999\2935-07.TIF;X:\1999\2935-08.TIF;X:\1999\2935-09.tif;X:\1999\2935-10.tif;X:\1999\2935-11.tif;X:\1999\2935-12.TIF;X:\1999\2935-13.TIF;X:\1999\2935-14.TIF;X:\1999\2935-15.TIF;X:\1999\2935-16.TIF;X:\1999\2935-17.TIF;X:\1999\2935-18.TIF;X:\1999\2935-19.TIF;X:\1999\2935-20.TIF;X:\1999\2935-21.TIF;X:\1999\2935-22.TIF;X:\1999\2935-23.TIF;X:\1999\2935-24.TIF;X:\1999\2935-25.TIF;X:\1999\2935-26.TIF;X:\1999\2935-27.TIF;X:\1999\2935-28.TIF;X:\1999\2935-29.TIF;X:\1999\2935-30.TIF;X:\1999\2935-31.TIF;X:\1999\2935-32.TIF;X:\1999\2935-33.TIF;X:\1999\2935-34.TIF;X:\1999\2935-35.TIF;X:\1999\2935-36.TIF;X:\1999\2969-01.TIF;X:\1999\2969-02.TIF;X:\1999\2969-03.TIF;X:\1999\2969-04.TIF;X:\1999\2969-05.TIF;X:\1999\2969-06.TIF;X:\1999\2969-07.TIF;X:\1999\2969-08.TIF;X:\1999\2969-09.TIF;X:\1999\2969-10.TIF;X:\1999\2969-11.TIF;X:\1999\2969-12.TIF;X:\1999\2969-13.TIF;X:\1999\2969-14.TIF;X:\1999\2969-15.TIF;X:\1999\2969-16.TIF;X:\1999\2969-17.TIF;X:\1999\2969-18.TIF;X:\1999\2969-19.TIF;X:\1999\2969-20.TIF;X:\1999\2969-21.TIF;X:\1999\2969-22.TIF;X:\1999\2969-23.TIF;X:\1999\2969-24.TIF;X:\1999\2969-25.TIF;X:\1999\2969-26.TIF;X:\1999\2969-27.TIF;X:\1999\2969-28.TIF;X:\1999\2969-29.TIF;X:\1999\2969-30.TIF;X:\1999\2969-31.TIF;X:\1999\2969-32.TIF;X:\1999\2969-33.TIF;X:\1999\2969-34.TIF;X:\1999\2969-35.TIF;X:\1999\2969-36.TIF;X:\1999\2971-01.TIF;X:\1999\2971-02.TIF;X:\1999\2971-11.TIF;X:\1999\2971-12.TIF;X:\1999\2971-13.TIF;X:\1999\2971-14.TIF;X:\1999\2971-23.TIF;X:\1999\2971-24.TIF;X:\1999\2971-25.TIF;X:\1999\2971-26.TIF;X:\1999\2971-35.TIF;X:\1999\2971-36.TIF;X:\1999\2973-01.TIF;X:\1999\2973-02.TIF;X:\1999\2973-03.TIF;X:\1999\2973-04.TIF;X:\1999\2973-05.TIF;X:\1999\2973-06.TIF;X:\1999\2973-07.TIF;X:\1999\2973-08.TIF;X:\1999\2973-09.TIF;X:\1999\2973-10.TIF;X:\1999\2973-11.TIF;X:\1999\2973-12.TIF;X:\1999\2973-13.TIF;X:\1999\2973-14.TIF;X:\1999\2973-15.TIF;X:\1999\2973-16.TIF;X:\1999\2973-17.TIF;X:\1999\2973-18.TIF;X:\1999\2973-19.TIF;X:\1999\2973-20.TIF;X:\1999\2973-21.TIF;X:\1999\2973-22.TIF;X:\1999\2973-23.TIF;X:\1999\2973-24.TIF;X:\1999\2973-25.TIF;X:\1999\2973-26.TIF;X:\1999\2973-27.TIF;X:\1999\2973-28.TIF;X:\1999\2973-29.TIF;X:\1999\2973-30.TIF;X:\1999\2973-31.TIF;X:\1999\2973-32.TIF;X:\1999\2973-33.TIF;X:\1999\2973-34.TIF;X:\1999\2973-35.TIF;X:\1999\2973-36.TIF;X:\1999\2975-04.TIF;X:\1999\2975-05.TIF;X:\1999\2975-06.TIF;X:\1999\2975-07.TIF;X:\1999\2975-08.TIF;X:\1999\2975-09.TIF;X:\1999\2975-16.TIF;X:\1999\2975-17.TIF;X:\1999\2975-18.TIF;X:\1999\2975-19.TIF;X:\1999\2975-20.TIF;X:\1999\2975-21.TIF;X:\1999\2975-28.TIF;X:\1999\2975-29.TIF;X:\1999\2975-30.TIF;X:\1999\2975-31.TIF;X:\1999\2975-32.TIF;X:\1999\2975-33.TIF;X:\1999\3197-04.TIF;X:\1999\3197-05.TIF;X:\1999\3197-06.TIF;X:\1999\3197-09.TIF;X:\1999\3199-01.TIF;X:\1999\3199-02.TIF;X:\1999\3199-03.TIF;X:\1999\3199-04.TIF;X:\1999\3199-05.TIF;X:\1999\3199-06.TIF;X:\1999\3199-07.TIF;X:\1999\3199-08.TIF;X:\1999\3199-17.TIF;X:\1999\3199-18.TIF;X:\1999\3199-19.TIF;X:\1999\3199-20.TIF;X:\1999\3199-29.TIF;X:\1999\3199-30.TIF;X:\1999\3201-01.TIF;X:\1999\3201-02.TIF;X:\1999\3201-11.TIF;X:\1999\3201-12.TIF;X:\1999\3201-13.TIF;X:\1999\3201-14.TIF;X:\1999\3201-23.TIF;X:\1999\3201-24.TIF;X:\1999\3201-25.TIF;X:\1999\3201-26.TIF;X:\1999\3201-35.TIF;X:\1999\3203-01.TIF;X:\1999\3203-02.TIF;X:\1999\3203-03.TIF;X:\1999\3203-04.TIF;X:\1999\3203-05.TIF;X:\1999\3203-06.TIF;X:\1999\3203-07.TIF;X:\1999\3203-08.TIF;X:\1999\3203-09.TIF;X:\1999\3203-10.TIF;X:\1999\3203-11.TIF;X:\1999\3203-12.TIF;X:\1999\3203-13.TIF;X:\1999\3203-14.TIF;X:\1999\3203-15.TIF;X:\1999\3203-16.TIF;X:\1999\3203-17.TIF;X:\1999\3203-18.TIF;X:\1999\3203-21.TIF;X:\1999\3203-22.TIF;X:\1999\3203-23.TIF;X:\1999\3203-24.TIF;X:\1999\3203-25.TIF;X:\1999\3203-26.TIF;X:\1999\3203-27.TIF;X:\1999\3203-28.TIF;X:\1999\3203-33.TIF;X:\1999\3203-35.TIF;X:\1999\3229-06.TIF;X:\1999\3229-08.TIF UPDATE_CELL_SIZES UPDATE_BOUNDARY UPDATE_OVERVIEWS # 0 1500 "PROJCS['NAD_1983_HARN_UTM_Zone_12N',GEOGCS['GCS_North_American_1983_HARN',DATUM['D_North_American_1983_HARN',SPHEROID['GRS_1980',6378137.0,298.257222101]],PRIMEM['Greenwich',0.0],UNIT['Degree',0.0174532925199433]],PROJECTION['Transverse_Mercator'],PARAMETER['False_Easting',500000.0],PARAMETER['False_Northing',0.0],PARAMETER['Central_Meridian',-111.0],PARAMETER['Scale_Factor',0.9996],PARAMETER['Latitude_Of_Origin',0.0],UNIT['Meter',1.0]];-5120900 -9998100 10000;-100000 10000;-100000 10000;0.001;0.001;0.001;IsHighPrecision" # SUBFOLDERS ALLOW_DUPLICATES BUILD_PYRAMIDS CALCULATE_STATISTICS NO_THUMBNAILS # NO_FORCE_SPATIAL_REFERENCE</Process>
</lineage>
<itemProps>
<itemName Sync="TRUE">county1999</itemName>
<itemLocation>
<linkage Sync="TRUE">file://\\ARCGIS-FS\X\1999\mosaic1999.gdb</linkage>
<protocol Sync="TRUE">Local Area Network</protocol>
</itemLocation>
<nativeExtBox>
<westBL Sync="TRUE">723140.182000</westBL>
<eastBL Sync="TRUE">749770.682000</eastBL>
<southBL Sync="TRUE">4302473.070000</southBL>
<northBL Sync="TRUE">4335781.570000</northBL>
<exTypeCode Sync="TRUE">1</exTypeCode>
</nativeExtBox>
</itemProps>
<coordRef>
<type Sync="TRUE">Projected</type>
<geogcsn Sync="TRUE">GCS_North_American_1983_HARN</geogcsn>
<csUnits Sync="TRUE">Linear Unit: Meter (1.000000)</csUnits>
<projcsn Sync="TRUE">NAD_1983_HARN_UTM_Zone_12N</projcsn>
<peXml Sync="TRUE">&lt;ProjectedCoordinateSystem xsi:type='typens:ProjectedCoordinateSystem' xmlns:xsi='http://www.w3.org/2001/XMLSchema-instance' xmlns:xs='http://www.w3.org/2001/XMLSchema' xmlns:typens='http://www.esri.com/schemas/ArcGIS/10.1'&gt;&lt;WKT&gt;PROJCS[&amp;quot;NAD_1983_HARN_UTM_Zone_12N&amp;quot;,GEOGCS[&amp;quot;GCS_North_American_1983_HARN&amp;quot;,DATUM[&amp;quot;D_North_American_1983_HARN&amp;quot;,SPHEROID[&amp;quot;GRS_1980&amp;quot;,6378137.0,298.257222101]],PRIMEM[&amp;quot;Greenwich&amp;quot;,0.0],UNIT[&amp;quot;Degree&amp;quot;,0.0174532925199433]],PROJECTION[&amp;quot;Transverse_Mercator&amp;quot;],PARAMETER[&amp;quot;False_Easting&amp;quot;,500000.0],PARAMETER[&amp;quot;False_Northing&amp;quot;,0.0],PARAMETER[&amp;quot;Central_Meridian&amp;quot;,-111.0],PARAMETER[&amp;quot;Scale_Factor&amp;quot;,0.9996],PARAMETER[&amp;quot;Latitude_Of_Origin&amp;quot;,0.0],UNIT[&amp;quot;Meter&amp;quot;,1.0],AUTHORITY[&amp;quot;EPSG&amp;quot;,3742]]&lt;/WKT&gt;&lt;XOrigin&gt;-5120900&lt;/XOrigin&gt;&lt;YOrigin&gt;-9998100&lt;/YOrigin&gt;&lt;XYScale&gt;450445547.3910538&lt;/XYScale&gt;&lt;ZOrigin&gt;-100000&lt;/ZOrigin&gt;&lt;ZScale&gt;10000&lt;/ZScale&gt;&lt;MOrigin&gt;-100000&lt;/MOrigin&gt;&lt;MScale&gt;10000&lt;/MScale&gt;&lt;XYTolerance&gt;0.001&lt;/XYTolerance&gt;&lt;ZTolerance&gt;0.001&lt;/ZTolerance&gt;&lt;MTolerance&gt;0.001&lt;/MTolerance&gt;&lt;HighPrecision&gt;true&lt;/HighPrecision&gt;&lt;WKID&gt;102206&lt;/WKID&gt;&lt;LatestWKID&gt;3742&lt;/LatestWKID&gt;&lt;/ProjectedCoordinateSystem&gt;</peXml>
</coordRef>
<RasterProperties>
<General>
<PixelDepth Sync="TRUE">8</PixelDepth>
<HasColormap Sync="TRUE">FALSE</HasColormap>
<CompressionType Sync="TRUE">None</CompressionType>
<NumBands Sync="TRUE">3</NumBands>
<Format Sync="TRUE">AMD</Format>
<HasPyramids Sync="TRUE">TRUE</HasPyramids>
<SourceType Sync="TRUE">continuous</SourceType>
<PixelType Sync="TRUE">unsigned integer</PixelType>
<NoDataValue Sync="TRUE"/>
</General>
<Properties>
<MaxImageHeight Sync="TRUE">4100</MaxImageHeight>
<MaxImageWidth Sync="TRUE">15000</MaxImageWidth>
<MaxRecordCount Sync="TRUE">1000</MaxRecordCount>
<MaxDownloadImageCount Sync="TRUE">20</MaxDownloadImageCount>
<MaxDownloadSizeLimit Sync="TRUE">2048</MaxDownloadSizeLimit>
<MaxMosaicImageCount Sync="TRUE">20</MaxMosaicImageCount>
<DefaultCompressionQuality Sync="TRUE">75</DefaultCompressionQuality>
<DefaultCompressionTolerance Sync="TRUE">0.01</DefaultCompressionTolerance>
<BlendWidth Sync="TRUE">10</BlendWidth>
<ViewpointSpacingX Sync="TRUE">600</ViewpointSpacingX>
<ViewpointSpacingY Sync="TRUE">300</ViewpointSpacingY>
<AllowedItemMetadata Sync="TRUE">Basic</AllowedItemMetadata>
<DefaultResamplingMethod Sync="TRUE">1</DefaultResamplingMethod>
<AllowedMosaicMethods Sync="TRUE">NorthWest,Center,LockRaster,ByAttribute,Nadir,Viewpoint,Seamline,None</AllowedMosaicMethods>
<AllowedCompressions Sync="TRUE">None,JPEG,LZ77,LERC</AllowedCompressions>
<AllowedMensurationCapabilities Sync="TRUE">None,Basic</AllowedMensurationCapabilities>
<AvailableMensurationCapabilities Sync="TRUE">None,Basic,Base-Top Height,Top-Top Shadow Height,Base-Top Shadow Height,3D</AvailableMensurationCapabilities>
<ClipToBoundary Sync="TRUE">-1</ClipToBoundary>
<FootprintMayContainNoData Sync="TRUE">-1</FootprintMayContainNoData>
<CellSizeTolerance Sync="TRUE">0.8</CellSizeTolerance>
<MinimumPixelContribution Sync="TRUE">1</MinimumPixelContribution>
<AvailableMosaicMethods Sync="TRUE">NorthWest,Center,LockRaster,ByAttribute,Nadir,Viewpoint,Seamline,None</AvailableMosaicMethods>
<AvailableCompressionMethods Sync="TRUE">None,JPEG,LZ77,LERC</AvailableCompressionMethods>
<AvailableItemMetadataLevels Sync="TRUE">None,Basic,Full</AvailableItemMetadataLevels>
<ConfigKeyword Sync="TRUE"/>
<BandDefinitionKeyword Sync="TRUE">NaturalColor</BandDefinitionKeyword>
<AllowedFields Sync="TRUE">Name,MinPS,MaxPS,LowPS,HighPS,Tag,GroupName,ProductName,CenterX,CenterY,ZOrder,Shape_Length,Shape_Area</AllowedFields>
<MaxCellSize Sync="TRUE">12150</MaxCellSize>
<LowCellSize Sync="TRUE">0.5</LowCellSize>
<HighCellSize Sync="TRUE">243</HighCellSize>
</Properties>
<Functions Sync="TRUE">
<Function Description="Performs on-the-fly mosaic on a raster catalog." Name="Mosaic Function"/>
</Functions>
</RasterProperties>
</DataProperties>
<SyncDate>20140305</SyncDate>
<SyncTime>10174000</SyncTime>
<ModDate>20140305</ModDate>
<ModTime>10174000</ModTime>
</Esri>
<dataIdInfo>
<envirDesc Sync="TRUE">Microsoft Windows Server 2008 R2 Version 6.1 (Build 7601) Service Pack 1; Esri ArcGIS 10.1.1.3143</envirDesc>
<dataLang>
<languageCode Sync="TRUE" value="eng"/>
<countryCode Sync="TRUE" value="USA"/>
</dataLang>
<idCitation>
<resTitle Sync="TRUE">1999county</resTitle>
<presForm>
<PresFormCd Sync="TRUE" value="005"/>
</presForm>
</idCitation>
<spatRpType>
<SpatRepTypCd Sync="TRUE" value="002"/>
</spatRpType>
<dataExt>
<geoEle>
<GeoBndBox esriExtentType="search">
<exTypeCode Sync="TRUE">1</exTypeCode>
<westBL Sync="TRUE">-108.428944</westBL>
<eastBL Sync="TRUE">-108.110272</eastBL>
<northBL Sync="TRUE">39.142648</northBL>
<southBL Sync="TRUE">38.835644</southBL>
</GeoBndBox>
</geoEle>
</dataExt>
<idAbs/>
<searchKeys>
<keyword>Image Service</keyword>
</searchKeys>
<idPurp>1999 county</idPurp>
<idCredit/>
<resConst>
<Consts>
<useLimit/>
</Consts>
</resConst>
</dataIdInfo>
<mdLang>
<languageCode Sync="TRUE" value="eng"/>
<countryCode Sync="TRUE" value="USA"/>
</mdLang>
<refSysInfo>
<RefSystem>
<refSysID>
<identCode Sync="TRUE" code="3742"/>
<idCodeSpace Sync="TRUE">EPSG</idCodeSpace>
<idVersion Sync="TRUE">7.11.2</idVersion>
</refSysID>
</RefSystem>
</refSysInfo>
<spatRepInfo>
<Georect>
<cellGeo>
<CellGeoCd Sync="TRUE" value="002"/>
</cellGeo>
<numDims Sync="TRUE">2</numDims>
<tranParaAv Sync="TRUE">1</tranParaAv>
<chkPtAv Sync="TRUE">0</chkPtAv>
<cornerPts>
<pos Sync="TRUE">723140.182000 4302473.070000</pos>
</cornerPts>
<cornerPts>
<pos Sync="TRUE">723140.182000 4335781.570000</pos>
</cornerPts>
<cornerPts>
<pos Sync="TRUE">749770.682000 4335781.570000</pos>
</cornerPts>
<cornerPts>
<pos Sync="TRUE">749770.682000 4302473.070000</pos>
</cornerPts>
<centerPt>
<pos Sync="TRUE">736455.432000 4319127.320000</pos>
</centerPt>
<axisDimension type="002">
<dimSize Sync="TRUE">53261</dimSize>
<dimResol>
<value Sync="TRUE" uom="Meter">0.500000</value>
</dimResol>
</axisDimension>
<axisDimension type="001">
<dimSize Sync="TRUE">66617</dimSize>
<dimResol>
<value Sync="TRUE" uom="Meter">0.500000</value>
</dimResol>
</axisDimension>
<ptInPixel>
<PixOrientCd Sync="TRUE" value="001"/>
</ptInPixel>
</Georect>
</spatRepInfo>
<contInfo>
<ImgDesc>
<contentTyp>
<ContentTypCd Sync="TRUE" value="001"/>
</contentTyp>
<covDim>
<Band>
<dimDescrp Sync="TRUE">Red</dimDescrp>
<maxVal Sync="TRUE">255.000000</maxVal>
<minVal Sync="TRUE">0.000000</minVal>
<bitsPerVal Sync="TRUE">8</bitsPerVal>
<valUnit>
<UOM type="length"/>
</valUnit>
</Band>
<Band>
<dimDescrp Sync="TRUE">Green</dimDescrp>
<maxVal Sync="TRUE">255.000000</maxVal>
<minVal Sync="TRUE">0.000000</minVal>
<bitsPerVal Sync="TRUE">8</bitsPerVal>
<valUnit>
<UOM type="length"/>
</valUnit>
</Band>
<Band>
<dimDescrp Sync="TRUE">Blue</dimDescrp>
<maxVal Sync="TRUE">255.000000</maxVal>
<minVal Sync="TRUE">8.000000</minVal>
<bitsPerVal Sync="TRUE">8</bitsPerVal>
<valUnit>
<UOM type="length"/>
</valUnit>
</Band>
</covDim>
</ImgDesc>
</contInfo>
<mdDateSt Sync="TRUE">20140305</mdDateSt>
</metadata>
