{
 "currentVersion": 11.2,
 "cimVersion": "3.2.0",
 "serviceDescription": "",
 "mapName": "2003",
 "description": "",
 "copyrightText": "",
 "supportsDynamicLayers": false,
 "layers": [
  {
   "id": 0,
   "name": "county2003",
   "parentLayerId": -1,
   "defaultVisibility": true,
   "subLayerIds": [
    1,
    2,
    3
   ],
   "minScale": 0,
   "maxScale": 0,
   "type": "Mosaic Layer",
   "supportsDynamicLegends": false
  },
  {
   "id": 1,
   "name": "Boundary",
   "parentLayerId": 0,
   "defaultVisibility": false,
   "subLayerIds": null,
   "minScale": 0,
   "maxScale": 0,
   "type": "Feature Layer",
   "geometryType": "esriGeometryPolygon",
   "supportsDynamicLegends": true
  },
  {
   "id": 2,
   "name": "Footprint",
   "parentLayerId": 0,
   "defaultVisibility": false,
   "subLayerIds": null,
   "minScale": 0,
   "maxScale": 0,
   "type": "Feature Layer",
   "geometryType": "esriGeometryPolygon",
   "supportsDynamicLegends": true
  },
  {
   "id": 3,
   "name": "Image",
   "parentLayerId": 0,
   "defaultVisibility": true,
   "subLayerIds": null,
   "minScale": 0,
   "maxScale": 0,
   "type": "Raster Layer",
   "supportsDynamicLegends": true
  }
 ],
 "tables": [],
 "spatialReference": {
  "wkid": 32612,
  "latestWkid": 32612,
  "xyTolerance": 0.001,
  "zTolerance": 0.001,
  "mTolerance": 0.001,
  "falseX": -5120900,
  "falseY": -9998100,
  "xyUnits": 10000,
  "falseZ": -100000,
  "zUnits": 10000,
  "falseM": -100000,
  "mUnits": 10000
 },
 "singleFusedMapCache": true,
 "tileInfo": {
  "rows": 256,
  "cols": 256,
  "dpi": 96,
  "format": "JPEG",
  "compressionQuality": 55,
  "origin": {
   "x": -5682840.144469,
   "y": 1.0465636498631E7
  },
  "spatialReference": {
   "wkid": 32612,
   "latestWkid": 32612,
   "xyTolerance": 0.001,
   "zTolerance": 0.001,
   "mTolerance": 0.001,
   "falseX": -5120900,
   "falseY": -9998100,
   "xyUnits": 10000,
   "falseZ": -100000,
   "zUnits": 10000,
   "falseM": -100000,
   "mUnits": 10000
  },
  "lods": [
   {
    "level": 0,
    "resolution": 19567.878989924648,
    "scale": 73957190
   },
   {
    "level": 1,
    "resolution": 9783.939494962324,
    "scale": 36978595
   },
   {
    "level": 2,
    "resolution": 4891.96961518923,
    "scale": 18489297
   },
   {
    "level": 3,
    "resolution": 2445.984675302684,
    "scale": 9244648
   },
   {
    "level": 4,
    "resolution": 1222.992337651342,
    "scale": 4622324
   },
   {
    "level": 5,
    "resolution": 611.496168825671,
    "scale": 2311162
   },
   {
    "level": 6,
    "resolution": 305.7480844128355,
    "scale": 1155581
   },
   {
    "level": 7,
    "resolution": 152.874174498349,
    "scale": 577791
   },
   {
    "level": 8,
    "resolution": 76.43695495724326,
    "scale": 288895
   },
   {
    "level": 9,
    "resolution": 38.218609770552874,
    "scale": 144448
   },
   {
    "level": 10,
    "resolution": 19.109304885276437,
    "scale": 72224
   },
   {
    "level": 11,
    "resolution": 9.554652442638218,
    "scale": 36112
   },
   {
    "level": 12,
    "resolution": 4.777326221319109,
    "scale": 18056
   },
   {
    "level": 13,
    "resolution": 2.3886631106595546,
    "scale": 9028
   },
   {
    "level": 14,
    "resolution": 1.1943315553297773,
    "scale": 4514
   },
   {
    "level": 15,
    "resolution": 0.5971657776648887,
    "scale": 2257
   },
   {
    "level": 16,
    "resolution": 0.2984505969011938,
    "scale": 1128
   },
   {
    "level": 17,
    "resolution": 0.1492252984505969,
    "scale": 564
   },
   {
    "level": 18,
    "resolution": 0.07461264922529845,
    "scale": 282
   }
  ]
 },
 "storageInfo": {
  "storageFormat": "esriMapCacheStorageModeCompactV2",
  "packetSize": 128
 },
 "initialExtent": {
  "xmin": 645777.7963583799,
  "ymin": 4247612.286423225,
  "xmax": 833449.6482626948,
  "ymax": 4380276.871390069,
  "spatialReference": {
   "wkid": 32612,
   "latestWkid": 32612,
   "xyTolerance": 0.001,
   "zTolerance": 0.001,
   "mTolerance": 0.001,
   "falseX": -5120900,
   "falseY": -9998100,
   "xyUnits": 10000,
   "falseZ": -100000,
   "zUnits": 10000,
   "falseM": -100000,
   "mUnits": 10000
  }
 },
 "fullExtent": {
  "xmin": 661002.0643009159,
  "ymin": 4255720.780212233,
  "xmax": 818240.6628073761,
  "ymax": 4372121.632151264,
  "spatialReference": {
   "wkid": 32612,
   "latestWkid": 32612,
   "xyTolerance": 0.001,
   "zTolerance": 0.001,
   "mTolerance": 0.001,
   "falseX": -5120900,
   "falseY": -9998100,
   "xyUnits": 10000,
   "falseZ": -100000,
   "zUnits": 10000,
   "falseM": -100000,
   "mUnits": 10000
  }
 },
 "datesInUnknownTimezone": false,
 "minScale": 73957190,
 "maxScale": 282,
 "units": "esriMeters",
 "supportedImageFormatTypes": "PNG32,PNG24,PNG,JPG,DIB,TIFF,EMF,PS,PDF,GIF,SVG,SVGZ,BMP",
 "documentInfo": {
  "Title": "Map",
  "Author": "",
  "Comments": "",
  "Subject": "",
  "Category": "",
  "Version": "2.9.0",
  "AntialiasingMode": "Fast",
  "TextAntialiasingMode": "Force",
  "Keywords": "Airphoto"
 },
 "supportsQueryDomains": true,
 "capabilities": "Map,Query,Data",
 "supportedQueryFormats": "JSON, geoJSON, PBF",
 "exportTilesAllowed": false,
 "referenceScale": 0.0,
 "datumTransformations": [
  {
   "geoTransforms": [
    {
     "wkid": 1900,
     "latestWkid": 1900,
     "transformForward": true,
     "name": "NAD_1983_HARN_To_WGS_1984_2"
    }
   ]
  },
  {
   "geoTransforms": [
    {
     "wkid": 1900,
     "latestWkid": 1900,
     "transformForward": false,
     "name": "NAD_1983_HARN_To_WGS_1984_2"
    }
   ]
  }
 ],
 "supportsDatumTransformation": true,
 "archivingInfo": {
  "supportsHistoricMoment": false
 },
 "supportsClipping": true,
 "supportsSpatialFilter": true,
 "supportsTimeRelation": true,
 "supportsQueryDataElements": true,
 "mapUnits": {
  "uwkid": 9001
 },
 "maxRecordCount": 2000,
 "maxImageHeight": 4096,
 "maxImageWidth": 4096,
 "supportedExtensions": "",
 "resampling": false,
 "serviceItemId": "888cd12432de46d185889f9167f575f9"
}
